BEGIN:VCALENDAR
VERSION:2.0
PRODID:-//Digital Nova Scotia – Leading Digital Industry - ECPv6.15.20//NONSGML v1.0//EN
CALSCALE:GREGORIAN
METHOD:PUBLISH
X-WR-CALNAME:Digital Nova Scotia – Leading Digital Industry
X-ORIGINAL-URL:https://digitalnovascotia.com
X-WR-CALDESC:Events for Digital Nova Scotia – Leading Digital Industry
REFRESH-INTERVAL;VALUE=DURATION:PT1H
X-Robots-Tag:noindex
X-PUBLISHED-TTL:PT1H
BEGIN:VTIMEZONE
TZID:America/Halifax
BEGIN:DAYLIGHT
TZOFFSETFROM:-0400
TZOFFSETTO:-0300
TZNAME:ADT
DTSTART:20220313T060000
END:DAYLIGHT
BEGIN:STANDARD
TZOFFSETFROM:-0300
TZOFFSETTO:-0400
TZNAME:AST
DTSTART:20221106T050000
END:STANDARD
BEGIN:DAYLIGHT
TZOFFSETFROM:-0400
TZOFFSETTO:-0300
TZNAME:ADT
DTSTART:20230312T060000
END:DAYLIGHT
BEGIN:STANDARD
TZOFFSETFROM:-0300
TZOFFSETTO:-0400
TZNAME:AST
DTSTART:20231105T050000
END:STANDARD
BEGIN:DAYLIGHT
TZOFFSETFROM:-0400
TZOFFSETTO:-0300
TZNAME:ADT
DTSTART:20240310T060000
END:DAYLIGHT
BEGIN:STANDARD
TZOFFSETFROM:-0300
TZOFFSETTO:-0400
TZNAME:AST
DTSTART:20241103T050000
END:STANDARD
END:VTIMEZONE
BEGIN:VEVENT
DTSTART;VALUE=DATE:20231013
DTEND;VALUE=DATE:20231016
DTSTAMP:20260420T202015
CREATED:20231006T142122Z
LAST-MODIFIED:20231006T142122Z
UID:3483010-1697155200-1697414399@digitalnovascotia.com
SUMMARY:Marketing Strategy Writing Program Halifax: Marketing Strategies SUCK.
DESCRIPTION:It’s not just you. \nIt’s true\, 9 out of 10 dentists hate marketing strategies* Try a new way with 20 year marketing professional Neil in Downtown Dartmouth. \n\n\n\nCommunicating is very expensive.\n\n\n\n\nIf you’re serious about communicating effectively\, then you know it’s a serious investment. So why can’t we get serious about our marketing strategies? \nBecause they suck. (did we mention this?) \n\n\n\n\n\n\n\n\nHere’s 3 reasons why they suck\n\n1: So much uncertainty. Where to start. What to include. What to leave out. How much to invest…\n2: Too much time. If we know where to start\, how do we find the time\n3: They kill creativity. Tell your unique story within these character limits. Ugh.\n\n\nWe know. And we can help.\nThis program includes:\n\n\n  Reusable Fully Customized Take Home Marketing Strategy Template\n  Customized Marketing Strategy (or a clear 1st draft depending on scale)\n  Expert Advice throughout with 30 day and 90 day follow-up\n  Lights\, cameras + content creation time in studio\n  Convenient FRI / SAT / SUN scheduling for fuller focus\n  3-Day Catered In Person\, Downtown Dartmouth\n\nCourse Itinerary\nWhat you will learn in the course\n\n\nDay 1\n\nLearn the building blocks of a marketing strategy\, then spend the afternoon creating your strategy template.\n\n\n\nDay 2\n\nWrite your marketing strategy (with our help).\n\n\n\nDay 3\n\nContinue writing your marketing strategy or use the day to film the content.
URL:https://digitalnovascotia.com/event/marketing-strategy-writing-program-halifax-marketing-strategies-suck/
LOCATION:This is Marketing\, 99 Portland Street\, Unit 208\, Dartmouth\, Nova Scotia\, B2Y 1H5
CATEGORIES:Programs,Training,Workshop
ATTACH;FMTTYPE=image/png:https://digitalnovascotia.com/wp-content/uploads/2023/10/This-is-Marketing.png
END:VEVENT
END:VCALENDAR