BEGIN:VCALENDAR
VERSION:2.0
PRODID:-//Digital Nova Scotia – Leading Digital Industry - ECPv6.15.20//NONSGML v1.0//EN
CALSCALE:GREGORIAN
METHOD:PUBLISH
X-WR-CALNAME:Digital Nova Scotia – Leading Digital Industry
X-ORIGINAL-URL:https://digitalnovascotia.com
X-WR-CALDESC:Events for Digital Nova Scotia – Leading Digital Industry
REFRESH-INTERVAL;VALUE=DURATION:PT1H
X-Robots-Tag:noindex
X-PUBLISHED-TTL:PT1H
BEGIN:VTIMEZONE
TZID:America/Halifax
BEGIN:DAYLIGHT
TZOFFSETFROM:-0400
TZOFFSETTO:-0300
TZNAME:ADT
DTSTART:20200308T060000
END:DAYLIGHT
BEGIN:STANDARD
TZOFFSETFROM:-0300
TZOFFSETTO:-0400
TZNAME:AST
DTSTART:20201101T050000
END:STANDARD
BEGIN:DAYLIGHT
TZOFFSETFROM:-0400
TZOFFSETTO:-0300
TZNAME:ADT
DTSTART:20210314T060000
END:DAYLIGHT
BEGIN:STANDARD
TZOFFSETFROM:-0300
TZOFFSETTO:-0400
TZNAME:AST
DTSTART:20211107T050000
END:STANDARD
BEGIN:DAYLIGHT
TZOFFSETFROM:-0400
TZOFFSETTO:-0300
TZNAME:ADT
DTSTART:20220313T060000
END:DAYLIGHT
BEGIN:STANDARD
TZOFFSETFROM:-0300
TZOFFSETTO:-0400
TZNAME:AST
DTSTART:20221106T050000
END:STANDARD
END:VTIMEZONE
BEGIN:VEVENT
DTSTART;TZID=America/Halifax:20211119T133000
DTEND;TZID=America/Halifax:20211119T163000
DTSTAMP:20260419T125609
CREATED:20211110T200922Z
LAST-MODIFIED:20211110T200922Z
UID:3464642-1637328600-1637339400@digitalnovascotia.com
SUMMARY:Sobey School of Business Impact Speaker Series
DESCRIPTION:The Sobey School of Business Impact Speaker Series elevates diverse\, intercultural perspectives of rising and global leaders\, with the aim of inspiring reflection and action among our students\, faculty\, partners and community. Through these conversations\, we hope to foster new generations of informed and engaged change makers\, who will create positive impact in our communities and our world. \nEvent Date: Fri\, 19 Nov 2021\nEvent Times: 1:30 – 4:30 p.m. AST \nThe inaugural Sobey School of Business Impact Speaker Series event is the first in the series titled Elevating Indigenous Businesses. This free in-person event will take place from 1:30 pm to 4:30 pm AST on Friday\, November 19\, 2021 at the Scotiabank Theatre in the Sobey School of Business. \nPlease note that all attendees will be required to show proof of double vaccination and government ID as per NS Health Covid-19 protocols.\nMasking will be required when you enter the building until you are seated. \nIf you have any questions\, please contact us at stephanie.howatt@smu.ca
URL:https://digitalnovascotia.com/event/sobey-school-of-business-impact-speaker-series/
LOCATION:Scotiabank Theatre\, Saint Mary’s University\, Sobey School of Business Building\, 903 Robie Street\, Halifax\, Nova Scotia\, B3H 3C2\, Canada
CATEGORIES:Events,Meetups
ATTACH;FMTTYPE=image/png:https://digitalnovascotia.com/wp-content/uploads/2021/11/BlogEvent-Header-39.png
END:VEVENT
END:VCALENDAR