BEGIN:VCALENDAR
VERSION:2.0
PRODID:-//Digital Nova Scotia – Leading Digital Industry - ECPv6.15.20//NONSGML v1.0//EN
CALSCALE:GREGORIAN
METHOD:PUBLISH
X-WR-CALNAME:Digital Nova Scotia – Leading Digital Industry
X-ORIGINAL-URL:https://digitalnovascotia.com
X-WR-CALDESC:Events for Digital Nova Scotia – Leading Digital Industry
REFRESH-INTERVAL;VALUE=DURATION:PT1H
X-Robots-Tag:noindex
X-PUBLISHED-TTL:PT1H
BEGIN:VTIMEZONE
TZID:America/Halifax
BEGIN:DAYLIGHT
TZOFFSETFROM:-0400
TZOFFSETTO:-0300
TZNAME:ADT
DTSTART:20250309T060000
END:DAYLIGHT
BEGIN:STANDARD
TZOFFSETFROM:-0300
TZOFFSETTO:-0400
TZNAME:AST
DTSTART:20251102T050000
END:STANDARD
BEGIN:DAYLIGHT
TZOFFSETFROM:-0400
TZOFFSETTO:-0300
TZNAME:ADT
DTSTART:20260308T060000
END:DAYLIGHT
BEGIN:STANDARD
TZOFFSETFROM:-0300
TZOFFSETTO:-0400
TZNAME:AST
DTSTART:20261101T050000
END:STANDARD
BEGIN:DAYLIGHT
TZOFFSETFROM:-0400
TZOFFSETTO:-0300
TZNAME:ADT
DTSTART:20270314T060000
END:DAYLIGHT
BEGIN:STANDARD
TZOFFSETFROM:-0300
TZOFFSETTO:-0400
TZNAME:AST
DTSTART:20271107T050000
END:STANDARD
END:VTIMEZONE
BEGIN:VEVENT
DTSTART;TZID=America/Halifax:20260422T160000
DTEND;TZID=America/Halifax:20260422T180000
DTSTAMP:20260422T140621
CREATED:20260320T123622Z
LAST-MODIFIED:20260320T123622Z
UID:3501519-1776873600-1776880800@digitalnovascotia.com
SUMMARY:IGNITING Women in Business w/ Melissa Pike | New Glasgow
DESCRIPTION:Stop burnout before it starts. Learn boundaries\, mindset shifts\, and self-care tools for women entrepreneurs who want more ease. \n\n\n\n\nAbout the Speaker\nMelissa is an ICF-Certified Coach with a background in Human Resources who supports high-performing leaders\, entrepreneurs\, and teams. Her work focuses on mindset shifts\, stress management\, health and wellness\, and major life transitions—including retirement. Melissa helps her clients increase productivity\, reduce burnout\, and create sustainable balance for a healthier\, happier life. \nAbout the Talk\nEntrepreneurship is challenging—and for women\, it often comes with the added pressure of putting everyone else first while striving to be nice\, humble\, accommodating\, and endlessly supportive. This talk addresses the hidden cost of that mindset and offers a powerful alternative. \nBy learning how to set and maintain healthy boundaries and reframe limiting beliefs\, women entrepreneurs can step into greater confidence\, empowerment\, and productivity—without guilt. The result? More energy\, more clarity\, and a more fulfilling business and life. \nWhat You’ll Gain\nParticipants will leave with practical tools to: \n\nSet and implement boundaries that support success\nShift unhelpful mindset patterns that lead to burnout\nRedefine self-care as a vital (and enjoyable!) part of achievement\n\nThis talk offers a refreshing\, light-hearted approach to personal growth—proving that success doesn’t have to come at the expense of well-being\, and that self-care can be effective\, fun\, and sustainable.
URL:https://digitalnovascotia.com/event/igniting-women-in-business-w-melissa-pike-new-glasgow/
LOCATION:IGNITE Atlantic 352 East River Rd.\, New Glasgow\, Nova Scotia\, Canada\, Nova Scotia\, Canada
CATEGORIES:Events
ATTACH;FMTTYPE=image/png:https://digitalnovascotia.com/wp-content/uploads/2026/03/2026-Women-in-Business-Eventbrite-1.png
END:VEVENT
END:VCALENDAR