BEGIN:VCALENDAR
VERSION:2.0
PRODID:-//Digital Nova Scotia – Leading Digital Industry - ECPv6.15.20//NONSGML v1.0//EN
CALSCALE:GREGORIAN
METHOD:PUBLISH
X-ORIGINAL-URL:https://digitalnovascotia.com
X-WR-CALDESC:Events for Digital Nova Scotia – Leading Digital Industry
REFRESH-INTERVAL;VALUE=DURATION:PT1H
X-Robots-Tag:noindex
X-PUBLISHED-TTL:PT1H
BEGIN:VTIMEZONE
TZID:America/Halifax
BEGIN:DAYLIGHT
TZOFFSETFROM:-0400
TZOFFSETTO:-0300
TZNAME:ADT
DTSTART:20210314T060000
END:DAYLIGHT
BEGIN:STANDARD
TZOFFSETFROM:-0300
TZOFFSETTO:-0400
TZNAME:AST
DTSTART:20211107T050000
END:STANDARD
BEGIN:DAYLIGHT
TZOFFSETFROM:-0400
TZOFFSETTO:-0300
TZNAME:ADT
DTSTART:20220313T060000
END:DAYLIGHT
BEGIN:STANDARD
TZOFFSETFROM:-0300
TZOFFSETTO:-0400
TZNAME:AST
DTSTART:20221106T050000
END:STANDARD
BEGIN:DAYLIGHT
TZOFFSETFROM:-0400
TZOFFSETTO:-0300
TZNAME:ADT
DTSTART:20230312T060000
END:DAYLIGHT
BEGIN:STANDARD
TZOFFSETFROM:-0300
TZOFFSETTO:-0400
TZNAME:AST
DTSTART:20231105T050000
END:STANDARD
END:VTIMEZONE
BEGIN:VEVENT
DTSTART;TZID=America/Halifax:20220825T160000
DTEND;TZID=America/Halifax:20220825T180000
DTSTAMP:20260419T093008
CREATED:20220719T151113Z
LAST-MODIFIED:20220719T151113Z
UID:3474843-1661443200-1661450400@digitalnovascotia.com
SUMMARY:Ocean Connector SOCIABLE!
DESCRIPTION:COVE’s Ocean Connector SOCIABLE! is back! \nAbout this event \nJoin us at the Brightwood Beer Garden\, Alderney Landing\, for our 4th Ocean Connector SOCIABLE! This event is a purely networking event for the ocean community. It’s a time for CEOs and students\, directors and founders\, to connect and discuss projects\, programs or career opportunities in the ocean sector.
URL:https://digitalnovascotia.com/event/ocean-connector-sociable/
LOCATION:Brightwood Beer Garden\, 2 Ochterloney Street\, Dartmouth\, Nova Scotia
CATEGORIES:Events,Meetups
ATTACH;FMTTYPE=image/png:https://digitalnovascotia.com/wp-content/uploads/2022/07/Screen-Shot-2022-07-19-at-12.08.46-PM.png
END:VEVENT
END:VCALENDAR