BEGIN:VCALENDAR
VERSION:2.0
PRODID:-//Digital Nova Scotia – Leading Digital Industry - ECPv6.15.20//NONSGML v1.0//EN
CALSCALE:GREGORIAN
METHOD:PUBLISH
X-WR-CALNAME:Digital Nova Scotia – Leading Digital Industry
X-ORIGINAL-URL:https://digitalnovascotia.com
X-WR-CALDESC:Events for Digital Nova Scotia – Leading Digital Industry
REFRESH-INTERVAL;VALUE=DURATION:PT1H
X-Robots-Tag:noindex
X-PUBLISHED-TTL:PT1H
BEGIN:VTIMEZONE
TZID:America/Halifax
BEGIN:DAYLIGHT
TZOFFSETFROM:-0400
TZOFFSETTO:-0300
TZNAME:ADT
DTSTART:20240310T060000
END:DAYLIGHT
BEGIN:STANDARD
TZOFFSETFROM:-0300
TZOFFSETTO:-0400
TZNAME:AST
DTSTART:20241103T050000
END:STANDARD
BEGIN:DAYLIGHT
TZOFFSETFROM:-0400
TZOFFSETTO:-0300
TZNAME:ADT
DTSTART:20250309T060000
END:DAYLIGHT
BEGIN:STANDARD
TZOFFSETFROM:-0300
TZOFFSETTO:-0400
TZNAME:AST
DTSTART:20251102T050000
END:STANDARD
BEGIN:DAYLIGHT
TZOFFSETFROM:-0400
TZOFFSETTO:-0300
TZNAME:ADT
DTSTART:20260308T060000
END:DAYLIGHT
BEGIN:STANDARD
TZOFFSETFROM:-0300
TZOFFSETTO:-0400
TZNAME:AST
DTSTART:20261101T050000
END:STANDARD
END:VTIMEZONE
BEGIN:VEVENT
DTSTART;TZID=America/Halifax:20250602T180000
DTEND;TZID=America/Halifax:20250602T210000
DTSTAMP:20260424T162420
CREATED:20250602T124836Z
LAST-MODIFIED:20250602T124836Z
UID:3491181-1748887200-1748898000@digitalnovascotia.com
SUMMARY:Startup Atlantic Kitchen Party: Collide & Connect
DESCRIPTION:Startup Atlantic Kitchen Party: AVF Kick-Off 2025 🎶 \nWe’re back! Last year we sold out with over 250 in attendance throughout the event. Startup Atlantic is kicking off Atlantic Venture Forum 2025 again with a Kitchen Party that brings the coastal energy like no other. Think laid-back vibes and music with new friends that’ll have your toes tapping before AVF starts bright and early Wednesday morning. \nLocation: The Loose Cannon\, Halifax \nDate: Tuesday\, June 3\, 2025 \nTime: 6:00 PM – 9:00 PM \nFree to attend\, but registration is required to save your spot!\nEnjoy a taste of the East Coast with locally-inspired reception bites and the kind of crowd that makes networking feel more like a night out with friends.
URL:https://digitalnovascotia.com/event/startup-atlantic-kitchen-party-collide-connect/
LOCATION:Loose Cannon Halifax\, 1566 Argyle Street\, Halifax\, Nova Scotia\, B3J 2B3\, Canada
CATEGORIES:Events,Meetups
ATTACH;FMTTYPE=image/avif:https://digitalnovascotia.com/wp-content/uploads/2025/06/https___cdn.evbuc_.com_images_1030655813_2149855960053_1_original.avif
END:VEVENT
END:VCALENDAR