BEGIN:VCALENDAR
VERSION:2.0
PRODID:-//Digital Nova Scotia – Leading Digital Industry - ECPv6.15.20//NONSGML v1.0//EN
CALSCALE:GREGORIAN
METHOD:PUBLISH
X-ORIGINAL-URL:https://digitalnovascotia.com
X-WR-CALDESC:Events for Digital Nova Scotia – Leading Digital Industry
REFRESH-INTERVAL;VALUE=DURATION:PT1H
X-Robots-Tag:noindex
X-PUBLISHED-TTL:PT1H
BEGIN:VTIMEZONE
TZID:America/Halifax
BEGIN:DAYLIGHT
TZOFFSETFROM:-0400
TZOFFSETTO:-0300
TZNAME:ADT
DTSTART:20210314T060000
END:DAYLIGHT
BEGIN:STANDARD
TZOFFSETFROM:-0300
TZOFFSETTO:-0400
TZNAME:AST
DTSTART:20211107T050000
END:STANDARD
BEGIN:DAYLIGHT
TZOFFSETFROM:-0400
TZOFFSETTO:-0300
TZNAME:ADT
DTSTART:20220313T060000
END:DAYLIGHT
BEGIN:STANDARD
TZOFFSETFROM:-0300
TZOFFSETTO:-0400
TZNAME:AST
DTSTART:20221106T050000
END:STANDARD
BEGIN:DAYLIGHT
TZOFFSETFROM:-0400
TZOFFSETTO:-0300
TZNAME:ADT
DTSTART:20230312T060000
END:DAYLIGHT
BEGIN:STANDARD
TZOFFSETFROM:-0300
TZOFFSETTO:-0400
TZNAME:AST
DTSTART:20231105T050000
END:STANDARD
END:VTIMEZONE
BEGIN:VEVENT
DTSTART;VALUE=DATE:20220516
DTEND;VALUE=DATE:20220520
DTSTAMP:20260424T123950
CREATED:20220311T162625Z
LAST-MODIFIED:20220311T162625Z
UID:3469912-1652659200-1653004799@digitalnovascotia.com
SUMMARY:Ocean Frontier Institute Conference 2022
DESCRIPTION:Climate is at the top of the international policy agenda and is creating massive risks and opportunities in the commercial sector. Understanding the changing ocean is critical to predicting the future of climate. The ocean stores hundreds of times the heat and 50 times more carbon than the atmosphere and takes up more carbon than all the rainforests combined. Some of the most pressing global issues at the frontier of the ocean-climate nexus are achieving net zero\, developing sustainable food from the ocean\, and protecting ocean biodiversity. \nConference delegates from industry and policy will share their visions and challenges for sustainable development of these topics over the next decade. They will motivate the next frontier of ocean research by highlighting key questions to advance the field and outline their commitments to action to make an impact on solving some of the most pressing issues at the ocean-climate nexus. Ocean Frontier Institute researchers will join the dialog and present results from their studies that contribute directly to enabling the future of critical policy and industry decisions.
URL:https://digitalnovascotia.com/event/ocean-frontier-institute-conference-2022/
LOCATION:Halifax Marriott Harbourfront Hotel\, 1919 Upper Water St\, Halifax\, Nova Scotia\, B3J 3J5\, Canada
CATEGORIES:Conferences
ATTACH;FMTTYPE=image/jpeg:https://digitalnovascotia.com/wp-content/uploads/2022/03/1647015568407.jpg
END:VEVENT
END:VCALENDAR