BEGIN:VCALENDAR
VERSION:2.0
PRODID:-//Digital Nova Scotia – Leading Digital Industry - ECPv6.15.20//NONSGML v1.0//EN
CALSCALE:GREGORIAN
METHOD:PUBLISH
X-ORIGINAL-URL:https://digitalnovascotia.com
X-WR-CALDESC:Events for Digital Nova Scotia – Leading Digital Industry
REFRESH-INTERVAL;VALUE=DURATION:PT1H
X-Robots-Tag:noindex
X-PUBLISHED-TTL:PT1H
BEGIN:VTIMEZONE
TZID:America/Halifax
BEGIN:DAYLIGHT
TZOFFSETFROM:-0400
TZOFFSETTO:-0300
TZNAME:ADT
DTSTART:20210314T060000
END:DAYLIGHT
BEGIN:STANDARD
TZOFFSETFROM:-0300
TZOFFSETTO:-0400
TZNAME:AST
DTSTART:20211107T050000
END:STANDARD
BEGIN:DAYLIGHT
TZOFFSETFROM:-0400
TZOFFSETTO:-0300
TZNAME:ADT
DTSTART:20220313T060000
END:DAYLIGHT
BEGIN:STANDARD
TZOFFSETFROM:-0300
TZOFFSETTO:-0400
TZNAME:AST
DTSTART:20221106T050000
END:STANDARD
BEGIN:DAYLIGHT
TZOFFSETFROM:-0400
TZOFFSETTO:-0300
TZNAME:ADT
DTSTART:20230312T060000
END:DAYLIGHT
BEGIN:STANDARD
TZOFFSETFROM:-0300
TZOFFSETTO:-0400
TZNAME:AST
DTSTART:20231105T050000
END:STANDARD
END:VTIMEZONE
BEGIN:VEVENT
DTSTART;TZID=America/Halifax:20220620T173000
DTEND;TZID=America/Halifax:20220620T200000
DTSTAMP:20260419T092901
CREATED:20220614T162336Z
LAST-MODIFIED:20220614T162336Z
UID:3473271-1655746200-1655755200@digitalnovascotia.com
SUMMARY:Mount Saint Vincent Alumni Association Annual General Meeting (Hybrid)
DESCRIPTION:Mount Saint Vincent Alumni Association Annual General Meeting (Hybrid) \n\nMonday\, June 20\, 2022 @ 5:30 pm\nMcCain Centre\, Room 105\, MSVU Campus\nRecognition Dinner to follow\n\nRegistration required. \nIf you have any additional questions about the event\, please email alumni@msvu.ca \n 
URL:https://digitalnovascotia.com/event/mount-saint-vincent-alumni-association-annual-general-meeting-hybrid/
LOCATION:McCain Centre\, Mount Saint Vincent University\, Halifax\, Nova Scotia\, Canada
CATEGORIES:Events,Meetups,Webinar
ATTACH;FMTTYPE=image/jpeg:https://digitalnovascotia.com/wp-content/uploads/2022/06/msvaa_agm_notice_2022.jpeg
END:VEVENT
END:VCALENDAR