BEGIN:VCALENDAR
VERSION:2.0
PRODID:-//Digital Nova Scotia – Leading Digital Industry - ECPv6.15.20//NONSGML v1.0//EN
CALSCALE:GREGORIAN
METHOD:PUBLISH
X-ORIGINAL-URL:https://digitalnovascotia.com
X-WR-CALDESC:Events for Digital Nova Scotia – Leading Digital Industry
REFRESH-INTERVAL;VALUE=DURATION:PT1H
X-Robots-Tag:noindex
X-PUBLISHED-TTL:PT1H
BEGIN:VTIMEZONE
TZID:America/Halifax
BEGIN:DAYLIGHT
TZOFFSETFROM:-0400
TZOFFSETTO:-0300
TZNAME:ADT
DTSTART:20250309T060000
END:DAYLIGHT
BEGIN:STANDARD
TZOFFSETFROM:-0300
TZOFFSETTO:-0400
TZNAME:AST
DTSTART:20251102T050000
END:STANDARD
BEGIN:DAYLIGHT
TZOFFSETFROM:-0400
TZOFFSETTO:-0300
TZNAME:ADT
DTSTART:20260308T060000
END:DAYLIGHT
BEGIN:STANDARD
TZOFFSETFROM:-0300
TZOFFSETTO:-0400
TZNAME:AST
DTSTART:20261101T050000
END:STANDARD
BEGIN:DAYLIGHT
TZOFFSETFROM:-0400
TZOFFSETTO:-0300
TZNAME:ADT
DTSTART:20270314T060000
END:DAYLIGHT
BEGIN:STANDARD
TZOFFSETFROM:-0300
TZOFFSETTO:-0400
TZNAME:AST
DTSTART:20271107T050000
END:STANDARD
END:VTIMEZONE
BEGIN:VEVENT
DTSTART;TZID=America/Halifax:20260416T103000
DTEND;TZID=America/Halifax:20260416T113000
DTSTAMP:20260424T121931
CREATED:20260407T172603Z
LAST-MODIFIED:20260407T172625Z
UID:3501947-1776335400-1776339000@digitalnovascotia.com
SUMMARY:Unlock PIVP Funding: Explore AI Partnerships with DeepSense
DESCRIPTION:Submissions are now open for the Productivity & Innovation Voucher Program (PIVP)! \nNova Scotia businesses can access funding to advance applied innovation projects with real\, measurable outcomes\, whether you’re developing new products\, improving processes\, or strengthening operations. \nThrough the program\, companies partner with Nova Scotia post-secondary institutions. As part of Dalhousie University\, DeepSense can collaborate with you to deliver applied AI projects across all sectors\, from prototyping and technical development to advanced data and AI initiatives. \nProgram highlights:\n• Tier 1: Up to $15\,000 for new projects\n• Tier 2: Up to $25\,000 to build on prior work\n• Work with Nova Scotia post-secondary institutions\n• Focus on practical projects with clear business impact \nJoin our upcoming info session to learn how the program works\, what makes a strong application\, and how partnering with DeepSense can help you move your idea forward. \n📅 Application deadline: May 15\, 2026
URL:https://digitalnovascotia.com/event/unlock-pivp-funding-explore-ai-partnerships-with-deepsense/
LOCATION:Online
CATEGORIES:Webinar
ATTACH;FMTTYPE=image/jpeg:https://digitalnovascotia.com/wp-content/uploads/2026/04/z4xsrsoqrj8gxsf0igat.jpg
END:VEVENT
BEGIN:VEVENT
DTSTART;TZID=America/Halifax:20260416T160000
DTEND;TZID=America/Halifax:20260416T170000
DTSTAMP:20260424T121931
CREATED:20260402T151652Z
LAST-MODIFIED:20260402T151652Z
UID:3501879-1776355200-1776358800@digitalnovascotia.com
SUMMARY:OpenClaw: The Assistant Who Does It All!
DESCRIPTION:In this demo\, the HiVanya team will show you how to install & effectively use OpenClaw! \n\n\n\n\nOpenClaw is an open source software\, which can be you can install in your desktop and give it access to only the things you want. For example\, to surf the web\, use applications\, access your files etc. It can do research\, write code (aka build little apps for you!)\, surf the web\, organize files and much more. \nIn this webinar we will be covering: \n1. What OpenClaw can do for you! \n2. How to install it\, the main components and how to get started. \n3. Demo Claws for me: \na) My personal assisant via text messages \nb) Organize my expenses \n4. Demo Claws for work: \na) Look for RFP’s that are a fit for us\, and create drafts before notifying us. \nb) Researching on LinkedIn to find relevant posts and suggest new people for us to follow. \n5. Q&A
URL:https://digitalnovascotia.com/event/openclaw-the-assistant-who-does-it-all/
LOCATION:Online
CATEGORIES:Webinar,Workshop
ATTACH;FMTTYPE=image/webp:https://digitalnovascotia.com/wp-content/uploads/2026/04/openclaw.webp
END:VEVENT
BEGIN:VEVENT
DTSTART;TZID=America/Halifax:20260416T163000
DTEND;TZID=America/Halifax:20260416T183000
DTSTAMP:20260424T121931
CREATED:20260330T125249Z
LAST-MODIFIED:20260330T125249Z
UID:3501761-1776357000-1776364200@digitalnovascotia.com
SUMMARY:Networking Nights (Dartmouth)
DESCRIPTION:Networking Nights is expanding to new areas. Meet them at IKEA for an evening of connection\, conversation\, and community. \n\n\n\n\n🌟 Networking Nights \n📅 Thursday\, April 16\, 2026\n🕓 4:30 – 6:30 PM ADT\n📍 IKEA Dartmouth \nJoin us for Networking Nights as Networking Naturally expands to new areas and brings people together for an evening of meaningful connections\, local inspiration\, and professional growth. Whether you’re a seasoned entrepreneur\, business owner\, or just starting your journey\, this is your opportunity to grow your network and meet other professionals in a relaxed\, welcoming environment. \n🎤 Guest Speaker:\n• Torrye Keen\, TD Insurance \nAbout the Speaker: \nTorrye Keen is a dedicated Business Development Manager at TD Insurance\, specializing in Commercial Insurance. She supports small businesses across Atlantic Canada by helping owners better understand their coverage\, identify risks\, and protect their businesses with confidence. \nKnown for her strong relationship-building approach and commitment to education\, Torrye is passionate about helping entrepreneurs feel informed\, supported\, and empowered as they grow their businesses. \n💬 Expect a relaxed atmosphere\, valuable takeaways\, and plenty of time to connect with fellow professionals in the Dartmouth area. \n✅ Free to attend ✅ Bring business cards ✅ Open to all industries
URL:https://digitalnovascotia.com/event/networking-nights-dartmouth/
LOCATION:Ikea Halifax\, 645 Cutler Avenue\, Dartmouth\, NS\, B3B 0M2\, Canada
CATEGORIES:Events
ATTACH;FMTTYPE=image/webp:https://digitalnovascotia.com/wp-content/uploads/2026/03/image-19.webp
END:VEVENT
END:VCALENDAR