BEGIN:VCALENDAR
VERSION:2.0
PRODID:-//Digital Nova Scotia – Leading Digital Industry - ECPv6.15.20//NONSGML v1.0//EN
CALSCALE:GREGORIAN
METHOD:PUBLISH
X-WR-CALNAME:Digital Nova Scotia – Leading Digital Industry
X-ORIGINAL-URL:https://digitalnovascotia.com
X-WR-CALDESC:Events for Digital Nova Scotia – Leading Digital Industry
REFRESH-INTERVAL;VALUE=DURATION:PT1H
X-Robots-Tag:noindex
X-PUBLISHED-TTL:PT1H
BEGIN:VTIMEZONE
TZID:America/Halifax
BEGIN:DAYLIGHT
TZOFFSETFROM:-0400
TZOFFSETTO:-0300
TZNAME:ADT
DTSTART:20250309T060000
END:DAYLIGHT
BEGIN:STANDARD
TZOFFSETFROM:-0300
TZOFFSETTO:-0400
TZNAME:AST
DTSTART:20251102T050000
END:STANDARD
BEGIN:DAYLIGHT
TZOFFSETFROM:-0400
TZOFFSETTO:-0300
TZNAME:ADT
DTSTART:20260308T060000
END:DAYLIGHT
BEGIN:STANDARD
TZOFFSETFROM:-0300
TZOFFSETTO:-0400
TZNAME:AST
DTSTART:20261101T050000
END:STANDARD
BEGIN:DAYLIGHT
TZOFFSETFROM:-0400
TZOFFSETTO:-0300
TZNAME:ADT
DTSTART:20270314T060000
END:DAYLIGHT
BEGIN:STANDARD
TZOFFSETFROM:-0300
TZOFFSETTO:-0400
TZNAME:AST
DTSTART:20271107T050000
END:STANDARD
END:VTIMEZONE
BEGIN:VEVENT
DTSTART;TZID=America/Halifax:20260409T080000
DTEND;TZID=America/Halifax:20260410T180000
DTSTAMP:20260424T164128
CREATED:20260318T131716Z
LAST-MODIFIED:20260318T131716Z
UID:3501436-1775721600-1775844000@digitalnovascotia.com
SUMMARY:ATLSECCON
DESCRIPTION:ATLSECCON is a volunteer-led information-security conference dedicated to expanding the IT security knowledge pool. Their mission is to advance cybersecurity by fostering innovation\, strengthening collaboration\, and building resilience. At the core\, the Atlantic Security Conference Event Society is the engine that drives this mission forward. As a volunteer-led organization\, their commitment is fueled not by profit but by passion for the industry. They unite disciplines\, sectors\, and regions with a shared purpose: to address tomorrow’s threats today. \nFor attendees\, ATLSECCON provides a platform to harness the value of shared expertise; for sponsors\, it offers visibility to showcase cutting-edge solutions; and for speakers\, it serves as a stage to deliver diverse and impactful insights. \nWhy should you attend?\n\n\n\n\nHear from top experts on the best way to evolve IT security strategies\nParticipate in track sessions relevant to your needs and interests\nNetwork with an extensive array of industry providers at our sponsor exclusive Trade Show\nParticipate in our Trade Show Passport Program to be entered into the Grand Prize Draw\nTake advantage of free give-aways and enjoy locally sourced food and beverages\n\nRegistration for the 2-day Conference includes: \n\nAccess to all Keynote presentations and Track sessions\nAccess to the Sponsor Trade Show\nAccess to the Trade Show Reception on Day 1\nContinental breakfast and buffet lunch Day 1 & 2\nCoffee breaks Day 1 & 2
URL:https://digitalnovascotia.com/event/atlseccon/
LOCATION:Halifax Convention Centre\, Nova Scotia\, Canada
CATEGORIES:Conferences
ATTACH;FMTTYPE=image/png:https://digitalnovascotia.com/wp-content/uploads/2026/03/2026shadow400_orig.png
END:VEVENT
BEGIN:VEVENT
DTSTART;TZID=America/Halifax:20260410T090000
DTEND;TZID=America/Halifax:20260410T170000
DTSTAMP:20260424T164128
CREATED:20260317T115719Z
LAST-MODIFIED:20260317T115719Z
UID:3501290-1775811600-1775840400@digitalnovascotia.com
SUMMARY:Profit\, Powered by AI
DESCRIPTION:How to Use AI to Remove Bottlenecks\, Increase Margins\, and Buy Back Time.\nA hands-on\, operator-level workshop for business owners and senior leaders who care about execution\, not hype. \nTHIS IS NOT AN AI EVENT FOR EVERYONE\nAnd that’s intentional. \nThis workshop is for you if:  \n\n\nYou own or lead a business \n\n\nYou are the bottleneck more often than you’d like \n\n\nDecisions pile up faster than they should \n\n\nYou suspect AI could help\, but don’t trust the hype \n\n\nYou want profit leverage\, not more tools  \n\n\nThis is not for:  \n\n\nPrompt collectors \n\n\nTool junkies \n\n\n“AI will replace everyone” believers \n\n\nAnyone looking for shortcuts without discipline \n\n\nWHY THIS EVENT EXISTS\nMost AI events teach what AI can do. Almost none teach how leaders should use it responsibly. \nAI doesn’t magically fix businesses. It amplifies whatever system you already have\, good or bad. \nThis workshop shows you:  \n\n\nWhere AI actually belongs in a real business \n\n\nWhere it absolutely does not \n\n\nHow leaders use AI to improve margins without creating chaos \n\n\nWHAT YOU’LL LEARN (REAL OUTCOMES)\n By the end of the day\, you will:  \n\n\nUnderstand how AI actually works (without becoming technical) \n\n\nKnow exactly which bottlenecks AI can remove \n\n\nIdentify decisions you should no longer be making \n\n\nSee real AI use-cases inside real business systems \n\n\nLeave with a clear 30–60–90 day execution plan \n\n\n No theory. No fluff. No “someday.” \nWHAT MAKES THIS DIFFERENT\n \n\n\nSmall Room:  This is not a conference. It’s a working session.  \n\n\nLaptops Open:  You’ll apply ideas to your business in real time.  \n\n\nReal Systems\, Live Demos:  No toy examples. No polished fake workflows.  \n\n\n If it wouldn’t survive Monday morning\, it won’t be shown.  \n\n\nLeadership-First:  \n\n\n AI is treated as a leadership and systems problem\, not a tech problem. \nWHAT THE DAY LOOKS LIKE\n Morning \n\n\nWhy AI efforts fail in most businesses \n\n\nHow AI really works (in plain language) \n\n\nThe difference between experimentation and deployment \n\n\nLive demonstrations using real business workflows \n\n\n Afternoon \n\n\nApply AI to your profit engine \n\n\nIdentify bottlenecks\, decision drag\, and trapped information \n\n\nDefine what not to automate \n\n\nBuild a practical 30–60–90 day roadmap \n\n\n You’ll leave clear\, confident\, and ready to act. \nWHO IS LEADING THIS\nThis workshop is built and delivered by Frameworks Inc.  A leadership and systems business focused on helping other businesses scale without chaos.  \nEverything shared comes from:  \n\n\nReal operating environments \n\n\nReal leadership challenges \n\n\nReal profit accountability  \n\n\nThis is not theory. It’s field-tested thinking. \nEVENT DETAILS\nEvent: Profit\, Powered by AI Format: In-person\, hands-on workshop  \nAudience: Business Owners & Senior Leaders \nLocation: BRETON CRAFTHOUSE \nSeats: Limited \nInvestment: $250 \nWHY THE PRICE IS WHAT IT IS\nThis price filters for: \n\n\nSerious leaders \n\n\nReal operators \n\n\nPeople who will actually implement \n\n\nIf $250 isn’t worth clarity\, time\, and margin improvement — this is not your room. \nIncluded in Price: \n\n\nFull Day Event \n\n\nLunch Provided by Breton Crafthouse \n\n\nSocial Hour – 4PM to 5PM – Breton Crafthouse Drinks Included \n\n\nREADY TO JOIN?\nThis is a one-day compression of thinking that usually takes months of trial and error. \nSeats are limited by design. \n👉 Reserve Your Seat Now (First come. No overflow. No replays.) \nFINAL WORD\nAI will not replace leaders. But leaders who understand AI will replace those who don’t. \nIf you want to lead with clarity\, discipline\, and profit —you’re in the right place. \n2026 is the year you either learn or get left behind!
URL:https://digitalnovascotia.com/event/profit-powered-by-ai/
LOCATION:Breton Crafthouse\, 291 Esplanade\, Sydney\, NS\, B1P 6P4\, Canada
CATEGORIES:Events
ATTACH;FMTTYPE=image/avif:https://digitalnovascotia.com/wp-content/uploads/2026/03/f56028_8639e5d4a0eb4f87a6c11cd6bf55d732mv2.avif
END:VEVENT
END:VCALENDAR