BEGIN:VCALENDAR
VERSION:2.0
PRODID:-//Digital Nova Scotia – Leading Digital Industry - ECPv6.15.20//NONSGML v1.0//EN
CALSCALE:GREGORIAN
METHOD:PUBLISH
X-WR-CALNAME:Digital Nova Scotia – Leading Digital Industry
X-ORIGINAL-URL:https://digitalnovascotia.com
X-WR-CALDESC:Events for Digital Nova Scotia – Leading Digital Industry
REFRESH-INTERVAL;VALUE=DURATION:PT1H
X-Robots-Tag:noindex
X-PUBLISHED-TTL:PT1H
BEGIN:VTIMEZONE
TZID:America/Halifax
BEGIN:DAYLIGHT
TZOFFSETFROM:-0400
TZOFFSETTO:-0300
TZNAME:ADT
DTSTART:20250309T060000
END:DAYLIGHT
BEGIN:STANDARD
TZOFFSETFROM:-0300
TZOFFSETTO:-0400
TZNAME:AST
DTSTART:20251102T050000
END:STANDARD
BEGIN:DAYLIGHT
TZOFFSETFROM:-0400
TZOFFSETTO:-0300
TZNAME:ADT
DTSTART:20260308T060000
END:DAYLIGHT
BEGIN:STANDARD
TZOFFSETFROM:-0300
TZOFFSETTO:-0400
TZNAME:AST
DTSTART:20261101T050000
END:STANDARD
BEGIN:DAYLIGHT
TZOFFSETFROM:-0400
TZOFFSETTO:-0300
TZNAME:ADT
DTSTART:20270314T060000
END:DAYLIGHT
BEGIN:STANDARD
TZOFFSETFROM:-0300
TZOFFSETTO:-0400
TZNAME:AST
DTSTART:20271107T050000
END:STANDARD
END:VTIMEZONE
BEGIN:VEVENT
DTSTART;TZID=America/Halifax:20260225T090000
DTEND;TZID=America/Halifax:20260225T160000
DTSTAMP:20260424T210043
CREATED:20260128T174807Z
LAST-MODIFIED:20260128T175814Z
UID:3499268-1772010000-1772035200@digitalnovascotia.com
SUMMARY:AI Discovery Series - South Shore
DESCRIPTION:As technology continues to advance\, small and medium-sized businesses (SMEs) are often the ones left behind—not due to lack of ambition\, but lack of access\, time\, and practical support. This one-day\, in-person workshop is designed to close that gap by giving Nova Scotia SMEs the knowledge\, confidence\, and tools they need to begin using AI in meaningful\, cost-effective ways. \nDelivered by Digital Nova Scotia\, in partnership with local ecosystem organizations and AI experts\, this hands-on workshop provides a practical introduction to artificial intelligence—what it is\, how it works\, and how it can be applied directly to everyday business operations. \nWorkshop topics: \n\nMake AI Work Better for You (Even If You’re Not Technical)\nGetting AI to do the Work for You\n\nAI Agents: Automate Your Knowledge Work\n\nThis workshop includes complimentary breakfast and lunch
URL:https://digitalnovascotia.com/event/ai-discovery-series-south-shore/
LOCATION:Oak Island Resort & Conference Centre\, 6 Treasure Dr\, Western Shore\, NS\, B0J 3M0\, Canada
CATEGORIES:DNS Events,Events
ATTACH;FMTTYPE=image/png:https://digitalnovascotia.com/wp-content/uploads/2026/01/AI-Discovery-Series-south-shore-feb-25.png
END:VEVENT
BEGIN:VEVENT
DTSTART;TZID=America/Halifax:20260225T180000
DTEND;TZID=America/Halifax:20260225T200000
DTSTAMP:20260424T210043
CREATED:20260223T135800Z
LAST-MODIFIED:20260223T135800Z
UID:3500141-1772042400-1772049600@digitalnovascotia.com
SUMMARY:Navigating the Atlantic Job Market: Strategies for Career Success
DESCRIPTION:Participants will gain practical tips and proven strategies for securing employment\, including resume optimization\, networking approaches ta \n\n\n\n\nSpeaker Alex Cann \nJoin us for an engaging and interactive session focused on understanding and succeeding in the Atlantic Job Market. Whether you’re a recent graduate\, newcomer\, career changer\, or seasoned professional\, this session will provide valuable insights into employment opportunities. \nParticipants will gain practical tips and proven strategies for securing employment\, including resume optimization\, networking approaches tailored to the Atlantic region\, navigating local hiring trends\, and standing out in competitive industries. The session will feature real-world examples\, interactive discussions\, and actionable takeaways to help you confidently position yourself in today’s evolving job market. \nDon’t miss this opportunity to learn insider tips\, ask questions\, and build the tools you need to successfully launch or advance your career in Atlantic Canada. \nCODE OF CONDUCT \nAgenda: \n6:00PM – 6:15PM: Welcome & Registration\n6:15PM – 6:20PM: Opening Remarks\n6:20PM – 7:00PM: Speaker Presentation / Panel\n7:00PM – 7:45PM: Networking\n7:45PM – 8:00PM: Program End
URL:https://digitalnovascotia.com/event/navigating-the-atlantic-job-market-strategies-for-career-success/
LOCATION:Arthur L. Irving Entrepreneurship Centre\, 960 Tower Road\, Halifax\, Nova Scotia\, B3H 2Y4\, Canada
CATEGORIES:Events
END:VEVENT
BEGIN:VEVENT
DTSTART;TZID=America/Halifax:20260225T180000
DTEND;TZID=America/Halifax:20260225T203000
DTSTAMP:20260424T210043
CREATED:20260223T184622Z
LAST-MODIFIED:20260223T184636Z
UID:3500152-1772042400-1772051400@digitalnovascotia.com
SUMMARY:AI Collective Halifax: AI After Hours
DESCRIPTION:AI After Hours: Builders\, Thinkers\, and Doers\n​AI After Hours is back. \n​After a brief detour for Halifax weather\, AI After Hours returns. Same room. Same energy. Same curiosity about where AI is heading and how it’s shaping our work and lives. \n​​When you arrive\, they’ll ask you three questions: \n\n\n​​What are you building with AI? \n\n\n​​What are you thinking about with AI? \n\n\n​​What are you doing with AI? \n\n\n​​AI After Hours is a relaxed evening for people who are \n\n\n​​Builders – engineers\, developers\, researchers creating with AI \n\n\n​​Thinkers – ethicists\, policymakers\, journalists\, and community leaders questioning its impact \n\n\n​​Doers – operators\, strategists\, project managers\, creatives\, educators implementing AI in their work \n\n\n​​The curious – students\, career pivoters\, anyone trying to understand where it all fits \n\n\n​​Get involved beyond attending \n​ If you’re curious about any of these roles\, this is the place to start those conversations naturally: \n\n\n​​Host or lead sessions – facilitate workshops\, discussions\, or skill-shares \n\n\n​​Volunteer – help with events\, community outreach\, or operations \n\n\n​​Partner with us – support our people\, work\, and programming through collaboration or sponsorship \n\n\n​​Build with us – contribute to projects\, tools\, or initiatives we’re creating together \n\n\n​​Bring a friend—whether they’re building with AI daily or just curious about where it’s all heading. \n​​Hosted by AI Collective Halifax\, in collaboration with Tribe Network. \n​As always\, food and drink\, engaging conversation\, and incredible company will all be provided! \n​​Please be advised: Unfortunately\, space is very limited at these community events and we can not always accept everyone we would like to. If you are not accepted to this event\, please keep applying! We appreciate your application tremendously and we are looking forward to seeing you at a future event very soon!
URL:https://digitalnovascotia.com/event/ai-collective-halifax-ai-after-hours/
LOCATION:1717 Barrington Street Halifax\, NS B3J 2A4\, 1717 Barrington Street Halifax\, NS\, Halifax\, Nova Scotia\, B3J 2A4\, Canada
CATEGORIES:Events
ATTACH;FMTTYPE=image/avif:https://digitalnovascotia.com/wp-content/uploads/2026/02/aiafterhours.avif
END:VEVENT
BEGIN:VEVENT
DTSTART;TZID=America/Halifax:20260225T190000
DTEND;TZID=America/Halifax:20260225T210000
DTSTAMP:20260424T210043
CREATED:20260217T170203Z
LAST-MODIFIED:20260219T130236Z
UID:3499988-1772046000-1772053200@digitalnovascotia.com
SUMMARY:Doing Work That Matters - UX NS Meetup
DESCRIPTION:Details\n\n\n\n\n\nUX NS is excited to welcome Barb Spanton to this month’s meetup! \nThere’s a quiet shift happening in the industry. UX professionals are drawn to work that genuinely helps people – work that aims to make a difference and solve real problems. For many\, that path leads to healthcare products and services. Then reality hits. \nDoing meaningful work in healthcare is hard. Progress is slow. Regulation is heavy. Legacy systems\, complex integrations\, and high stakes are the norm. Meanwhile\, fast-moving startups promise higher pay\, shinier titles\, and the thrill of “moving fast and breaking things.” \nThis talk looks beyond the idealized idea of “meaningful work” and into the lived reality of creating impact in complex\, highly regulated domains. \nWith Barb Spanton\, this session will explore what impact really means in healthcare\, why it’s often underestimated\, and how professionals can find purpose\, progress\, and influence—even when the work is anything but glamorous. \nJoin UX NS for an engaging and thought-provoking evening. Snacks and drinks will be served. \nAgenda\n7:00 PM Doors open\, networking time\, snacks and drinks\n7:15 PM Introductions from the event hosts\, Nata and Ruby\n7:20 PM Doing Work That Matters with Barb Spanton\n7:50 PM Q&A\n8:15 PM Networking and wrap-up\n8:45 PM Doors close \nSpeaker Bio\nBarb is a UX leader with over 25 years of experience designing and delivering products in complex\, highly regulated domains\, primarily healthcare. Her work has been shaped by a belief that doing meaningful work—especially work that impacts patients and clinicians—is both deeply challenging and deeply rewarding. \nShe currently leads UX for Siemens Healthineers\, where she supports a global team building the next generation of oncology care solutions while advancing UX maturity across the organization. Barb has been an active voice in the UX community\, speaking and organizing events at the intersection of design and healthcare\, and is passionate about mentoring designers to thrive and have an impact in complex\, real-world environments. \nHow to find the event at Siemens Healthineers (1675 Grafton St. Suite 400\, Halifax\, Nova Scotia)\nEnter through the doors at the North Tower of the Nova Centre (Beside BMO) and head to the fourth floor via the elevators. \nAcknowledgements\nThank you enormously to Siemens Healthineers for sharing their space. Thank you to Digital Nova Scotia for their sponsorship of UX NS. \nSupport us\nUX NS are solely volunteer-run and always looking for sponsors. Besides\, if you liked the event\, please spread the word on social media and bring a friend next time!
URL:https://digitalnovascotia.com/event/doing-work-that-matters-ux-ns-meetup/
LOCATION:Siemens Healthineers\, 1675 Grafton St Suite 400\, Halifax\, NS\, Canada
CATEGORIES:Events,Meetups
ATTACH;FMTTYPE=image/avif:https://digitalnovascotia.com/wp-content/uploads/2026/02/uxnsfeb25.avif
END:VEVENT
END:VCALENDAR