BEGIN:VCALENDAR
VERSION:2.0
PRODID:-//Digital Nova Scotia – Leading Digital Industry - ECPv6.15.20//NONSGML v1.0//EN
CALSCALE:GREGORIAN
METHOD:PUBLISH
X-WR-CALNAME:Digital Nova Scotia – Leading Digital Industry
X-ORIGINAL-URL:https://digitalnovascotia.com
X-WR-CALDESC:Events for Digital Nova Scotia – Leading Digital Industry
REFRESH-INTERVAL;VALUE=DURATION:PT1H
X-Robots-Tag:noindex
X-PUBLISHED-TTL:PT1H
BEGIN:VTIMEZONE
TZID:America/Halifax
BEGIN:DAYLIGHT
TZOFFSETFROM:-0400
TZOFFSETTO:-0300
TZNAME:ADT
DTSTART:20210314T060000
END:DAYLIGHT
BEGIN:STANDARD
TZOFFSETFROM:-0300
TZOFFSETTO:-0400
TZNAME:AST
DTSTART:20211107T050000
END:STANDARD
BEGIN:DAYLIGHT
TZOFFSETFROM:-0400
TZOFFSETTO:-0300
TZNAME:ADT
DTSTART:20220313T060000
END:DAYLIGHT
BEGIN:STANDARD
TZOFFSETFROM:-0300
TZOFFSETTO:-0400
TZNAME:AST
DTSTART:20221106T050000
END:STANDARD
BEGIN:DAYLIGHT
TZOFFSETFROM:-0400
TZOFFSETTO:-0300
TZNAME:ADT
DTSTART:20230312T060000
END:DAYLIGHT
BEGIN:STANDARD
TZOFFSETFROM:-0300
TZOFFSETTO:-0400
TZNAME:AST
DTSTART:20231105T050000
END:STANDARD
END:VTIMEZONE
BEGIN:VEVENT
DTSTART;TZID=America/Halifax:20220719T100000
DTEND;TZID=America/Halifax:20220719T110000
DTSTAMP:20260419T200625
CREATED:20220530T140449Z
LAST-MODIFIED:20220603T172423Z
UID:3472758-1658224800-1658228400@digitalnovascotia.com
SUMMARY:Succession Planning for Growing Businesses
DESCRIPTION:Understanding how to leverage succession planning for your team can make sure that your business has the talent it requires to continue to scale. This webinar will help leaders understand the importance of succession planning and develop the next steps to implement within their organization. \nAfter this webinar you will: \n\nHave clear understanding of what succession planning is and how it impacts talent and company growth\nKnow how to assess and develop your team for business growth and vision alignment\nUnderstand the first steps to developing a succession plan within your organization
URL:https://digitalnovascotia.com/event/succession-planning-for-growing-businesses/
LOCATION:Online
CATEGORIES:DNS Events,Training,Webinar
ATTACH;FMTTYPE=image/png:https://digitalnovascotia.com/wp-content/uploads/2022/05/Succession-Planning-for-Growing-Businesses1.png
END:VEVENT
BEGIN:VEVENT
DTSTART;TZID=America/Halifax:20220719T163000
DTEND;TZID=America/Halifax:20220719T183000
DTSTAMP:20260419T200626
CREATED:20220706T145618Z
LAST-MODIFIED:20220706T145618Z
UID:3474097-1658248200-1658255400@digitalnovascotia.com
SUMMARY:Speed Networking with CEED and BNI
DESCRIPTION:ARE YOU LOOKING TO INNOVATE\, CREATE\, SCALE/EXPAND your business idea…. \nCEED IS WHERE THE CONVERSATION STARTS! \nOur goal is to help build successful and innovative businesses contributing to a vibrant and entrepreneurial Nova Scotia. \nCEED is proud to be part of a community of like-minded ecosystem organizations\, brought together by recognizing opportunities to create impact and an underlying passion for entrepreneurship. \nCEED presents\, Speed Networking with your fellow CEED members and BNI Members. \nBNI is successful business networking organization with Members and Chapters in over 75 countries\, we want you to leverage our network to the best of your ability. Take advantage of this unique opportunity to expand your network and build meaningful connections. \nForm deeper\, productive\, meaningful connections. Practice your networking skills. Meet like-minded individuals in a friendly environment at The Halifax Club. \nIn this event\, you will have a chance to: \n\nConnect with professionals in a speed networking style\nFoster new relationships\nMaster networking skills and discover new opportunities\n\nDon’t miss this unique networking event! Happening at the Halifax Club on July 19th at 4:30 pm. \nRegister now to reserve your spot!
URL:https://digitalnovascotia.com/event/speed-networking-with-ceed-and-bni/
LOCATION:The Halifax Club\, 1682 Hollis St\, Halifax\, Nova Scotia\, B3J 2R7\, Canada
CATEGORIES:Meetups
ATTACH;FMTTYPE=image/png:https://digitalnovascotia.com/wp-content/uploads/2022/07/202207061358061657115886jhese6ug8xyi8gcwsal1.png
END:VEVENT
END:VCALENDAR